BEGIN:VCALENDAR
VERSION:2.0
PRODID:-//Working across Kent, Surrey and Sussex - ECPv6.15.20//NONSGML v1.0//EN
CALSCALE:GREGORIAN
METHOD:PUBLISH
X-WR-CALNAME:Working across Kent, Surrey and Sussex
X-ORIGINAL-URL:https://kss.hee.nhs.uk
X-WR-CALDESC:Events for Working across Kent, Surrey and Sussex
REFRESH-INTERVAL;VALUE=DURATION:PT1H
X-Robots-Tag:noindex
X-PUBLISHED-TTL:PT1H
BEGIN:VTIMEZONE
TZID:Europe/London
BEGIN:DAYLIGHT
TZOFFSETFROM:+0000
TZOFFSETTO:+0100
TZNAME:BST
DTSTART:20250330T010000
END:DAYLIGHT
BEGIN:STANDARD
TZOFFSETFROM:+0100
TZOFFSETTO:+0000
TZNAME:GMT
DTSTART:20251026T010000
END:STANDARD
BEGIN:DAYLIGHT
TZOFFSETFROM:+0000
TZOFFSETTO:+0100
TZNAME:BST
DTSTART:20260329T010000
END:DAYLIGHT
BEGIN:STANDARD
TZOFFSETFROM:+0100
TZOFFSETTO:+0000
TZNAME:GMT
DTSTART:20261025T010000
END:STANDARD
BEGIN:DAYLIGHT
TZOFFSETFROM:+0000
TZOFFSETTO:+0100
TZNAME:BST
DTSTART:20270328T010000
END:DAYLIGHT
BEGIN:STANDARD
TZOFFSETFROM:+0100
TZOFFSETTO:+0000
TZNAME:GMT
DTSTART:20271031T010000
END:STANDARD
END:VTIMEZONE
BEGIN:VEVENT
DTSTART;TZID=Europe/London:20260702T090000
DTEND;TZID=Europe/London:20260702T160000
DTSTAMP:20260424T150614
CREATED:20260303T094228Z
LAST-MODIFIED:20260303T094304Z
UID:69437-1782982800-1783008000@kss.hee.nhs.uk
SUMMARY:SCE Revision Training Day
DESCRIPTION:The SCE Revision Training Day for Respiratory Medicine scheduled for 02 July 2026. \n\n\n\nPlease be advised that the training day will  be delivered online only via MS Teams. \n\n\n\nPlease  click here to register for this Training day \n\n\n\nTimes are 09:00 to 16:00 but please note we will update you of the confirmed times in due course. \n\n\n\n This is for both Pan-London and KSS trainees.
URL:https://kss.hee.nhs.uk/event/sce-revision-training-day/
CATEGORIES:Respiratory Medicine
END:VEVENT
END:VCALENDAR