BEGIN:VCALENDAR
VERSION:2.0
PRODID:-//Working across Kent, Surrey and Sussex - ECPv6.15.20//NONSGML v1.0//EN
CALSCALE:GREGORIAN
METHOD:PUBLISH
X-WR-CALNAME:Working across Kent, Surrey and Sussex
X-ORIGINAL-URL:https://kss.hee.nhs.uk
X-WR-CALDESC:Events for Working across Kent, Surrey and Sussex
REFRESH-INTERVAL;VALUE=DURATION:PT1H
X-Robots-Tag:noindex
X-PUBLISHED-TTL:PT1H
BEGIN:VTIMEZONE
TZID:Europe/London
BEGIN:DAYLIGHT
TZOFFSETFROM:+0000
TZOFFSETTO:+0100
TZNAME:BST
DTSTART:20200329T010000
END:DAYLIGHT
BEGIN:STANDARD
TZOFFSETFROM:+0100
TZOFFSETTO:+0000
TZNAME:GMT
DTSTART:20201025T010000
END:STANDARD
BEGIN:DAYLIGHT
TZOFFSETFROM:+0000
TZOFFSETTO:+0100
TZNAME:BST
DTSTART:20210328T010000
END:DAYLIGHT
BEGIN:STANDARD
TZOFFSETFROM:+0100
TZOFFSETTO:+0000
TZNAME:GMT
DTSTART:20211031T010000
END:STANDARD
BEGIN:DAYLIGHT
TZOFFSETFROM:+0000
TZOFFSETTO:+0100
TZNAME:BST
DTSTART:20220327T010000
END:DAYLIGHT
BEGIN:STANDARD
TZOFFSETFROM:+0100
TZOFFSETTO:+0000
TZNAME:GMT
DTSTART:20221030T010000
END:STANDARD
END:VTIMEZONE
BEGIN:VEVENT
DTSTART;TZID=Europe/London:20211217T083000
DTEND;TZID=Europe/London:20211217T163000
DTSTAMP:20260421T130442
CREATED:20211013T124112Z
LAST-MODIFIED:20211216T133303Z
UID:46717-1639729800-1639758600@kss.hee.nhs.uk
SUMMARY:(Pan Thames & KSS\, ENT\, RTD 2021) - Facial Plastics
DESCRIPTION:This will be taking place virtually via Microsoft Team\, if you wish to attend please register your place by clicking here \n\n\n\nThe dial in details will be circulated to those registered via our booking system.
URL:https://kss.hee.nhs.uk/event/pan-thames-kss-ent-rtd-2021-facial-plastics/
LOCATION:Canterbury Cricket Club\, The Spitfire Ground\, St Lawrence Old Dover Rd\, Canterbury CT1 3NZ
CATEGORIES:Surgery
END:VEVENT
END:VCALENDAR