BEGIN:VCALENDAR
VERSION:2.0
PRODID:-//Working across Kent, Surrey and Sussex - ECPv6.15.20//NONSGML v1.0//EN
CALSCALE:GREGORIAN
METHOD:PUBLISH
X-WR-CALNAME:Working across Kent, Surrey and Sussex
X-ORIGINAL-URL:https://kss.hee.nhs.uk
X-WR-CALDESC:Events for Working across Kent, Surrey and Sussex
REFRESH-INTERVAL;VALUE=DURATION:PT1H
X-Robots-Tag:noindex
X-PUBLISHED-TTL:PT1H
BEGIN:VTIMEZONE
TZID:Europe/London
BEGIN:DAYLIGHT
TZOFFSETFROM:+0000
TZOFFSETTO:+0100
TZNAME:BST
DTSTART:20210328T010000
END:DAYLIGHT
BEGIN:STANDARD
TZOFFSETFROM:+0100
TZOFFSETTO:+0000
TZNAME:GMT
DTSTART:20211031T010000
END:STANDARD
BEGIN:DAYLIGHT
TZOFFSETFROM:+0000
TZOFFSETTO:+0100
TZNAME:BST
DTSTART:20220327T010000
END:DAYLIGHT
BEGIN:STANDARD
TZOFFSETFROM:+0100
TZOFFSETTO:+0000
TZNAME:GMT
DTSTART:20221030T010000
END:STANDARD
BEGIN:DAYLIGHT
TZOFFSETFROM:+0000
TZOFFSETTO:+0100
TZNAME:BST
DTSTART:20230326T010000
END:DAYLIGHT
BEGIN:STANDARD
TZOFFSETFROM:+0100
TZOFFSETTO:+0000
TZNAME:GMT
DTSTART:20231029T010000
END:STANDARD
END:VTIMEZONE
BEGIN:VEVENT
DTSTART;TZID=Europe/London:20220927T080000
DTEND;TZID=Europe/London:20220927T170000
DTSTAMP:20260421T122105
CREATED:20220715T134546Z
LAST-MODIFIED:20220715T134547Z
UID:49117-1664265600-1664298000@kss.hee.nhs.uk
SUMMARY:(Pan London & KSS\, ACCS & Core Anaesthetics\, RTD\, 2022) EASY Primary FRCA SOE Course CT1 - CT4
DESCRIPTION:Targeted Grade: Anaesthetics CT1 – CT3 & ACCS (anaesthetics) CT1 – CT4  \n\n\n\nPlease email easyprimaryfrca@gmail.com to secure your place \n\n\n\n27-Sep-2022-FlyerDownload
URL:https://kss.hee.nhs.uk/event/pan-london-kss-accs-core-anaesthetics-rtd-2022-easy-primary-frca-soe-course-ct1-ct4/
CATEGORIES:Acute Care Common Stem,Anaesthesia
END:VEVENT
END:VCALENDAR