BEGIN:VCALENDAR
VERSION:2.0
PRODID:-//Working across Kent, Surrey and Sussex - ECPv6.15.20//NONSGML v1.0//EN
CALSCALE:GREGORIAN
METHOD:PUBLISH
X-WR-CALNAME:Working across Kent, Surrey and Sussex
X-ORIGINAL-URL:https://kss.hee.nhs.uk
X-WR-CALDESC:Events for Working across Kent, Surrey and Sussex
REFRESH-INTERVAL;VALUE=DURATION:PT1H
X-Robots-Tag:noindex
X-PUBLISHED-TTL:PT1H
BEGIN:VTIMEZONE
TZID:Europe/London
BEGIN:DAYLIGHT
TZOFFSETFROM:+0000
TZOFFSETTO:+0100
TZNAME:BST
DTSTART:20210328T010000
END:DAYLIGHT
BEGIN:STANDARD
TZOFFSETFROM:+0100
TZOFFSETTO:+0000
TZNAME:GMT
DTSTART:20211031T010000
END:STANDARD
BEGIN:DAYLIGHT
TZOFFSETFROM:+0000
TZOFFSETTO:+0100
TZNAME:BST
DTSTART:20220327T010000
END:DAYLIGHT
BEGIN:STANDARD
TZOFFSETFROM:+0100
TZOFFSETTO:+0000
TZNAME:GMT
DTSTART:20221030T010000
END:STANDARD
BEGIN:DAYLIGHT
TZOFFSETFROM:+0000
TZOFFSETTO:+0100
TZNAME:BST
DTSTART:20230326T010000
END:DAYLIGHT
BEGIN:STANDARD
TZOFFSETFROM:+0100
TZOFFSETTO:+0000
TZNAME:GMT
DTSTART:20231029T010000
END:STANDARD
END:VTIMEZONE
BEGIN:VEVENT
DTSTART;TZID=Europe/London:20220218T090000
DTEND;TZID=Europe/London:20220218T133000
DTSTAMP:20260424T044356
CREATED:20220202T162446Z
LAST-MODIFIED:20220209T093133Z
UID:47910-1645174800-1645191000@kss.hee.nhs.uk
SUMMARY:KSS Regional Training Day-'Paces and Medical SPR Preparation’
DESCRIPTION:St Peter’s Hospital will be hosting a Regional Training Day focusing on Paces and Medical SPR Preparation.   \n\n\n\nTo register please click here \n\n\n\nTrainees will have the opportunity to attend face to  face.  To do so\, please send a request via the portal  \n\n\n\nhttps://lasepgmdesupport.hee.nhs.uk/support/home \n\n\n\n \n\n\n\n\n\n\n\n\n\n\n\nSt-Peters-RTD-Schedule.Download
URL:https://kss.hee.nhs.uk/event/kss-regional-training-day-paces-and-medical-spr-preparation/
CATEGORIES:Core/Internal Medical,Internal Medicine Training
END:VEVENT
END:VCALENDAR