BEGIN:VCALENDAR
VERSION:2.0
PRODID:-//Working across Kent, Surrey and Sussex - ECPv6.15.20//NONSGML v1.0//EN
CALSCALE:GREGORIAN
METHOD:PUBLISH
X-WR-CALNAME:Working across Kent, Surrey and Sussex
X-ORIGINAL-URL:https://kss.hee.nhs.uk
X-WR-CALDESC:Events for Working across Kent, Surrey and Sussex
REFRESH-INTERVAL;VALUE=DURATION:PT1H
X-Robots-Tag:noindex
X-PUBLISHED-TTL:PT1H
BEGIN:VTIMEZONE
TZID:Europe/London
BEGIN:DAYLIGHT
TZOFFSETFROM:+0000
TZOFFSETTO:+0100
TZNAME:BST
DTSTART:20250330T010000
END:DAYLIGHT
BEGIN:STANDARD
TZOFFSETFROM:+0100
TZOFFSETTO:+0000
TZNAME:GMT
DTSTART:20251026T010000
END:STANDARD
BEGIN:DAYLIGHT
TZOFFSETFROM:+0000
TZOFFSETTO:+0100
TZNAME:BST
DTSTART:20260329T010000
END:DAYLIGHT
BEGIN:STANDARD
TZOFFSETFROM:+0100
TZOFFSETTO:+0000
TZNAME:GMT
DTSTART:20261025T010000
END:STANDARD
BEGIN:DAYLIGHT
TZOFFSETFROM:+0000
TZOFFSETTO:+0100
TZNAME:BST
DTSTART:20270328T010000
END:DAYLIGHT
BEGIN:STANDARD
TZOFFSETFROM:+0100
TZOFFSETTO:+0000
TZNAME:GMT
DTSTART:20271031T010000
END:STANDARD
END:VTIMEZONE
BEGIN:VEVENT
DTSTART;TZID=Europe/London:20260715T100000
DTEND;TZID=Europe/London:20260715T150000
DTSTAMP:20260421T133354
CREATED:20260209T122308Z
LAST-MODIFIED:20260209T123214Z
UID:69271-1784109600-1784127600@kss.hee.nhs.uk
SUMMARY: KSS IMT RTD RHEUM\, DERM 15TH July
DESCRIPTION:Dear All\, \n\n\n\nThe Medway Maritime Hospital (Medway NHS Foundation Trust​)​ will be hosting the KSS IMT RTD in July. \n\n\n\nDate: 15/07/2026 \n\n\n\nTime : 10am-15pm \n\n\n\nTopic : RHEUM\, DERM \n\n\n\nVenue : Hybrid  \n\n\n\nMicrosoft TEAMS / Face to face at the  Lecture Theatre\, Post graduate Medical Centre Medway Hospital  \n\n\n\nAgenda: TBC \n\n\n\nClick here to register to attend this event. \n\n\n\nhttps://lasepgmdeevents.hee.nhs.uk/events/regional-training-days/c561acba-9497-4829-bdc3-ff8844177d63 \n\n\n\nUseful links: \n\n\n\n–        KSS IMT Regional Training Days (RTDs) calendar   \n\n\n\n–        KSS IMT RTD TEAM \n\n\n\n–        JRCPTB IMT specialty information – Includes information regarding curriculum\, ARCP decision aids\, forms and other guidance \n\n\n\nMS Teams Link: \n\n\n\nMicrosoft Teams meeting \n\n\n\nJoin: https://teams.microsoft.com/meet/33524696920303?p=jTLrgVjyCVhqeij6Kn \n\n\n\nMeeting ID: 335 246 969 203 03 \n\n\n\nPasscode: Dz3dW3ki \n\n\n\nNeed help? | System reference \n\n\n\nDial in by phone \n\n\n\n+44 20 3321 5208\,\,487290795# United Kingdom\, City of London \n\n\n\nFind a local number \n\n\n\nPhone conference ID: 487 290 795# \n\n\n\nFor organisers: Meeting options | Reset dial-in PIN \n\n\n\n\n\n\n\nIf you are planning to use Teams for clinical purposes\, it is important to review usage with your local Information Governance and Clinical Safety teams to determine and adhere to best practice around patient data management. \n\n\n\nOrg help | Privacy and security \n\n\n\nKind regards\, \n\n\n\nInternal Medicine Training (IMT) team 
URL:https://kss.hee.nhs.uk/event/kss-imt-rtd-rheum-derm-15th-july/
CATEGORIES:Internal Medicine Training
END:VEVENT
END:VCALENDAR