BEGIN:VCALENDAR
VERSION:2.0
PRODID:-//Working across Kent, Surrey and Sussex - ECPv6.15.20//NONSGML v1.0//EN
CALSCALE:GREGORIAN
METHOD:PUBLISH
X-WR-CALNAME:Working across Kent, Surrey and Sussex
X-ORIGINAL-URL:https://kss.hee.nhs.uk
X-WR-CALDESC:Events for Working across Kent, Surrey and Sussex
REFRESH-INTERVAL;VALUE=DURATION:PT1H
X-Robots-Tag:noindex
X-PUBLISHED-TTL:PT1H
BEGIN:VTIMEZONE
TZID:Europe/London
BEGIN:DAYLIGHT
TZOFFSETFROM:+0000
TZOFFSETTO:+0100
TZNAME:BST
DTSTART:20210328T010000
END:DAYLIGHT
BEGIN:STANDARD
TZOFFSETFROM:+0100
TZOFFSETTO:+0000
TZNAME:GMT
DTSTART:20211031T010000
END:STANDARD
BEGIN:DAYLIGHT
TZOFFSETFROM:+0000
TZOFFSETTO:+0100
TZNAME:BST
DTSTART:20220327T010000
END:DAYLIGHT
BEGIN:STANDARD
TZOFFSETFROM:+0100
TZOFFSETTO:+0000
TZNAME:GMT
DTSTART:20221030T010000
END:STANDARD
BEGIN:DAYLIGHT
TZOFFSETFROM:+0000
TZOFFSETTO:+0100
TZNAME:BST
DTSTART:20230326T010000
END:DAYLIGHT
BEGIN:STANDARD
TZOFFSETFROM:+0100
TZOFFSETTO:+0000
TZNAME:GMT
DTSTART:20231029T010000
END:STANDARD
END:VTIMEZONE
BEGIN:VEVENT
DTSTART;TZID=Europe/London:20221006T090000
DTEND;TZID=Europe/London:20221006T170000
DTSTAMP:20260421T122159
CREATED:20220721T190538Z
LAST-MODIFIED:20220922T140731Z
UID:49219-1665046800-1665075600@kss.hee.nhs.uk
SUMMARY:(KSS\, Emergency Medicine\,RTD\,2022) Paediatric Emergency Medicine Simulation and Regional Training Day (for Sussex Trainees Only )
DESCRIPTION:To register\, please visit HEE London and South East PGMDE Events Booking Portal. \n\n\n\n\n\nProgramme-Paediatric-RTD_SLO_-6-Oct2022Download
URL:https://kss.hee.nhs.uk/event/kss-emergency-medicinertd2022-paediatric-emergency-medicine-simulation-and-regional-training-day-for-sussex-trainees-only/
LOCATION:Worthing Hospital Post Graduate Centre\, Lyndhurst Road\, Worthing\, West Sussex\, BN11 2DH.
CATEGORIES:Acute Care Common Stem,Emergency Medicine
END:VEVENT
END:VCALENDAR