BEGIN:VCALENDAR
VERSION:2.0
PRODID:-//Working across Kent, Surrey and Sussex - ECPv6.15.20//NONSGML v1.0//EN
CALSCALE:GREGORIAN
METHOD:PUBLISH
X-WR-CALNAME:Working across Kent, Surrey and Sussex
X-ORIGINAL-URL:https://kss.hee.nhs.uk
X-WR-CALDESC:Events for Working across Kent, Surrey and Sussex
REFRESH-INTERVAL;VALUE=DURATION:PT1H
X-Robots-Tag:noindex
X-PUBLISHED-TTL:PT1H
BEGIN:VTIMEZONE
TZID:Europe/London
BEGIN:DAYLIGHT
TZOFFSETFROM:+0000
TZOFFSETTO:+0100
TZNAME:BST
DTSTART:20210328T010000
END:DAYLIGHT
BEGIN:STANDARD
TZOFFSETFROM:+0100
TZOFFSETTO:+0000
TZNAME:GMT
DTSTART:20211031T010000
END:STANDARD
BEGIN:DAYLIGHT
TZOFFSETFROM:+0000
TZOFFSETTO:+0100
TZNAME:BST
DTSTART:20220327T010000
END:DAYLIGHT
BEGIN:STANDARD
TZOFFSETFROM:+0100
TZOFFSETTO:+0000
TZNAME:GMT
DTSTART:20221030T010000
END:STANDARD
BEGIN:DAYLIGHT
TZOFFSETFROM:+0000
TZOFFSETTO:+0100
TZNAME:BST
DTSTART:20230326T010000
END:DAYLIGHT
BEGIN:STANDARD
TZOFFSETFROM:+0100
TZOFFSETTO:+0000
TZNAME:GMT
DTSTART:20231029T010000
END:STANDARD
END:VTIMEZONE
BEGIN:VEVENT
DTSTART;TZID=Europe/London:20220303T083000
DTEND;TZID=Europe/London:20220303T173000
DTSTAMP:20260424T032233
CREATED:20220124T093034Z
LAST-MODIFIED:20220124T093035Z
UID:47815-1646296200-1646328600@kss.hee.nhs.uk
SUMMARY:(KSS\, Anaes\, RTD\, 2022) Return to Training (Anaesthetics) CT1-ST7
DESCRIPTION:To register please contact Dr Somerville directly  nicola.somerville@nhs.net 
URL:https://kss.hee.nhs.uk/event/kss-anaes-rtd-2022-return-to-training-anaesthetics-ct1-st7/
LOCATION:William Harvey Hospital Simulation Centre\, Arundel Unit\, William Harvey Hospital\, Ashford\, Kent\, TN24 0LZ 
CATEGORIES:Anaesthesia
END:VEVENT
END:VCALENDAR