BEGIN:VCALENDAR
VERSION:2.0
PRODID:-//Working across Kent, Surrey and Sussex - ECPv6.15.20//NONSGML v1.0//EN
CALSCALE:GREGORIAN
METHOD:PUBLISH
X-WR-CALNAME:Working across Kent, Surrey and Sussex
X-ORIGINAL-URL:https://kss.hee.nhs.uk
X-WR-CALDESC:Events for Working across Kent, Surrey and Sussex
REFRESH-INTERVAL;VALUE=DURATION:PT1H
X-Robots-Tag:noindex
X-PUBLISHED-TTL:PT1H
BEGIN:VTIMEZONE
TZID:Europe/London
BEGIN:DAYLIGHT
TZOFFSETFROM:+0000
TZOFFSETTO:+0100
TZNAME:BST
DTSTART:20210328T010000
END:DAYLIGHT
BEGIN:STANDARD
TZOFFSETFROM:+0100
TZOFFSETTO:+0000
TZNAME:GMT
DTSTART:20211031T010000
END:STANDARD
BEGIN:DAYLIGHT
TZOFFSETFROM:+0000
TZOFFSETTO:+0100
TZNAME:BST
DTSTART:20220327T010000
END:DAYLIGHT
BEGIN:STANDARD
TZOFFSETFROM:+0100
TZOFFSETTO:+0000
TZNAME:GMT
DTSTART:20221030T010000
END:STANDARD
BEGIN:DAYLIGHT
TZOFFSETFROM:+0000
TZOFFSETTO:+0100
TZNAME:BST
DTSTART:20230326T010000
END:DAYLIGHT
BEGIN:STANDARD
TZOFFSETFROM:+0100
TZOFFSETTO:+0000
TZNAME:GMT
DTSTART:20231029T010000
END:STANDARD
END:VTIMEZONE
BEGIN:VEVENT
DTSTART;TZID=Europe/London:20220922T090000
DTEND;TZID=Europe/London:20220922T170000
DTSTAMP:20260423T144518
CREATED:20220805T123405Z
LAST-MODIFIED:20220908T101903Z
UID:49407-1663837200-1663866000@kss.hee.nhs.uk
SUMMARY:(KSS\, ACCS\, Emergency Medicine\, RTD\, 2022) Regional Training Day ST1-ST3-Resuscitation & Cardiology
DESCRIPTION:To register\, please visit HEE London and South East PGMDE Events Booking Portal. \n\n\n\n\n\nProgramme-for-ACCS-Regional-Training-Day-22-September-2022Download
URL:https://kss.hee.nhs.uk/event/kss-accs-emergency-medicine-rtd-2022-regional-training-day-st1-st3-resuscitation-cardiology/
LOCATION:William Harvey  Hospital Kennington Rd\, Willesborough\, Ashford TN24 0LZ  & MS Teams\, Kennington Road\, Willesborough\, Ashford\, TN 24 0LZ
CATEGORIES:Acute Care Common Stem,Emergency Medicine
END:VEVENT
END:VCALENDAR