BEGIN:VCALENDAR
VERSION:2.0
PRODID:-//Working across Kent, Surrey and Sussex - ECPv6.15.20//NONSGML v1.0//EN
CALSCALE:GREGORIAN
METHOD:PUBLISH
X-WR-CALNAME:Working across Kent, Surrey and Sussex
X-ORIGINAL-URL:https://kss.hee.nhs.uk
X-WR-CALDESC:Events for Working across Kent, Surrey and Sussex
REFRESH-INTERVAL;VALUE=DURATION:PT1H
X-Robots-Tag:noindex
X-PUBLISHED-TTL:PT1H
BEGIN:VTIMEZONE
TZID:Europe/London
BEGIN:DAYLIGHT
TZOFFSETFROM:+0000
TZOFFSETTO:+0100
TZNAME:BST
DTSTART:20220327T010000
END:DAYLIGHT
BEGIN:STANDARD
TZOFFSETFROM:+0100
TZOFFSETTO:+0000
TZNAME:GMT
DTSTART:20221030T010000
END:STANDARD
BEGIN:DAYLIGHT
TZOFFSETFROM:+0000
TZOFFSETTO:+0100
TZNAME:BST
DTSTART:20230326T010000
END:DAYLIGHT
BEGIN:STANDARD
TZOFFSETFROM:+0100
TZOFFSETTO:+0000
TZNAME:GMT
DTSTART:20231029T010000
END:STANDARD
BEGIN:DAYLIGHT
TZOFFSETFROM:+0000
TZOFFSETTO:+0100
TZNAME:BST
DTSTART:20240331T010000
END:DAYLIGHT
BEGIN:STANDARD
TZOFFSETFROM:+0100
TZOFFSETTO:+0000
TZNAME:GMT
DTSTART:20241027T010000
END:STANDARD
END:VTIMEZONE
BEGIN:VEVENT
DTSTART;TZID=Europe/London:20230425T084500
DTEND;TZID=Europe/London:20230425T154500
DTSTAMP:20260421T103638
CREATED:20221220T154633Z
LAST-MODIFIED:20221220T154715Z
UID:52725-1682412300-1682437500@kss.hee.nhs.uk
SUMMARY:IMT Practical Procedures Course
DESCRIPTION:Please view attachment for registration instructions. \n\n\n\n\n\n\n\n\n\n\n\n\n\nIMT-Practical-Procedures-25th-April-2023Download
URL:https://kss.hee.nhs.uk/event/52725/
LOCATION:Education Centre\, Eastbourne DGH\, Kings Drive\, Eastbourne\, East Sussex BN21 2UD
CATEGORIES:Core/Internal Medical,Internal Medicine Training
END:VEVENT
END:VCALENDAR